BEGIN:VCALENDAR
VERSION:2.0
PRODID:-//APC-NYC - Advertising Production Club of New York - ECPv6.15.20//NONSGML v1.0//EN
CALSCALE:GREGORIAN
METHOD:PUBLISH
X-WR-CALNAME:APC-NYC - Advertising Production Club of New York
X-ORIGINAL-URL:https://apc-nyc.org
X-WR-CALDESC:Events for APC-NYC - Advertising Production Club of New York
REFRESH-INTERVAL;VALUE=DURATION:PT1H
X-Robots-Tag:noindex
X-PUBLISHED-TTL:PT1H
BEGIN:VTIMEZONE
TZID:America/New_York
BEGIN:DAYLIGHT
TZOFFSETFROM:-0500
TZOFFSETTO:-0400
TZNAME:EDT
DTSTART:20220313T070000
END:DAYLIGHT
BEGIN:STANDARD
TZOFFSETFROM:-0400
TZOFFSETTO:-0500
TZNAME:EST
DTSTART:20221106T060000
END:STANDARD
BEGIN:DAYLIGHT
TZOFFSETFROM:-0500
TZOFFSETTO:-0400
TZNAME:EDT
DTSTART:20230312T070000
END:DAYLIGHT
BEGIN:STANDARD
TZOFFSETFROM:-0400
TZOFFSETTO:-0500
TZNAME:EST
DTSTART:20231105T060000
END:STANDARD
BEGIN:DAYLIGHT
TZOFFSETFROM:-0500
TZOFFSETTO:-0400
TZNAME:EDT
DTSTART:20240310T070000
END:DAYLIGHT
BEGIN:STANDARD
TZOFFSETFROM:-0400
TZOFFSETTO:-0500
TZNAME:EST
DTSTART:20241103T060000
END:STANDARD
BEGIN:DAYLIGHT
TZOFFSETFROM:-0500
TZOFFSETTO:-0400
TZNAME:EDT
DTSTART:20250309T070000
END:DAYLIGHT
BEGIN:STANDARD
TZOFFSETFROM:-0400
TZOFFSETTO:-0500
TZNAME:EST
DTSTART:20251102T060000
END:STANDARD
BEGIN:DAYLIGHT
TZOFFSETFROM:-0500
TZOFFSETTO:-0400
TZNAME:EDT
DTSTART:20260308T070000
END:DAYLIGHT
BEGIN:STANDARD
TZOFFSETFROM:-0400
TZOFFSETTO:-0500
TZNAME:EST
DTSTART:20261101T060000
END:STANDARD
END:VTIMEZONE
BEGIN:VEVENT
DTSTART;TZID=America/New_York:20230125T180000
DTEND;TZID=America/New_York:20230125T210000
DTSTAMP:20260420T084644
CREATED:20230106T215357Z
LAST-MODIFIED:20230106T215457Z
UID:6884-1674669600-1674680400@apc-nyc.org
SUMMARY:January 2023 Meetup
DESCRIPTION:Register Now!\n			\n				\n				\n				\n				\n				\n			\n				\n				\n				\n				\n				Come kick off a great start to 2023! If you’ve waited for years to get back\, socialize and reintroduce your passion to the graphic arts\, here’s your moment to shine. \nThis networking community of industry peers\, include some of the top decision marketers\, production\, project managers\, creatives and consultants from companies like Showtime\, Paramount\, TBWA\, Link9\, MacMillan and many more. Join us for great conversation or simply just to introduce yourself. \n			\n				\n				\n				\n				\n				FREE Admission to all that attend but must pre-register  \n			\n				Reserve your spot here!
URL:https://apc-nyc.org/event/january-meetup/
LOCATION:Clinton Hall\, 16 West 36th Street\, New York\, NY\, 10018\, United States
END:VEVENT
BEGIN:VEVENT
DTSTART;TZID=America/New_York:20230608T180000
DTEND;TZID=America/New_York:20230608T210000
DTSTAMP:20260420T084645
CREATED:20230512T185434Z
LAST-MODIFIED:20230512T185536Z
UID:6949-1686247200-1686258000@apc-nyc.org
SUMMARY:Forward to the Future: Design & Production
DESCRIPTION:Register Now!\n			\n				\n				\n				\n				\n				\n			\n				\n				\n				\n				\n				A Deep Dive with panel experts in production\, design\, and tech will provide insight and tips on what the future means for our industry and how to leverage your skillset and experience for the next stage of automation\, advertising and marketing.Who are the panel experts: Experienced marketers\, production\, project managers\, creative and business owners from companies like Paramount\, ABC\, Neenah\, TBWA\, Link9\, MacMillan and many more will discuss tech and production trends that are having an impact on business. \nWhat is my cost to attend:We have Registration Options \n\nNon-APC NYC members – Register Online and Save ! $35; (At door $45) – \nCurrent APC NYC Members + Students – Free;\n*Annual APC-NYC membership $120 – use this link  to become a member: https://apc212.app.neoncrm.com/forms/membership\n\nWhat is included with my event registration:+ Top Industry Networking + Connections+ Relevant topics to get you up to speed and get you ahead of your competitors and peers+ Prizes to be awarded at event – including an Adobe Creative Cloud package worth > $1000+ Food and drink at event+ Amazing Tarot reader that will read your future! \nWhat is included with my $120 membership registration:+ Free or discounted entry at all our events+ Early bird admission/registration+ Top industry networking + connections+ Discounts and access to other media supported events+ Your contribution plays a part as a major resource and funding to programs like Graphic Communications Scholarship Award and Career Advancement Foundation (GCSF)\, one of the largest regional scholarship foundations in the country. \nIf you can’t make it. please consider donating today and/or become a member! : https://apc212.app.neoncrm.com/forms/membership \nEvent Date: Thursday\, June 8th\, 2023Event Time: 6-9pm \nLocation:Industrial Color32 6th Ave\, 22nd FloorNew York\, NY 10013 \n \n			\n				Reserve your spot here!
URL:https://apc-nyc.org/event/forward-to-the-future-design-production/
LOCATION:Industrial Color\, 32 6th Ave\, 22nd floor\, New York\, NY\, 10013\, United States
END:VEVENT
BEGIN:VEVENT
DTSTART;TZID=America/New_York:20240516T080000
DTEND;TZID=America/New_York:20240516T183000
DTSTAMP:20260420T084645
CREATED:20240509T183647Z
LAST-MODIFIED:20240509T183651Z
UID:7745-1715846400-1715884200@apc-nyc.org
SUMMARY:Henry Stewart’s Creative Production New York 2024
DESCRIPTION:We are delighted to announce that the APC is the official Media Partner for Henry Stewart’s Creative Production New York 2024 in-person event on May 16. This event will be chaired by Paul Nicholson\, former APC President. Join us to learn from a diverse array of professional speakers representing renowned brands such as Calvin Klein\, YouTube\, Saatchi & Saatchi\, Nickelodeon / Paramount\, Milk & Honey Productions\, and Mower Agency. This event offers a valuable opportunity to network with industry leaders and explore pressing topics that can enhance your career. Don’t miss out on this enriching experience—register now using the discount code APC100! \nEvent Date: Thursday\, May 16th\, 2024Event Time: 8 AM – 6:30 PM \nLocation:New York Hilton Midtown1335 6th AveNew York\, NY 10019
URL:https://apc-nyc.org/event/henry-stewarts-creative-production-new-york-2024/
LOCATION:New York Hilton Midtown\, 1335 6th Ave\, New York\, NY\, 10019\, United States
END:VEVENT
BEGIN:VEVENT
DTSTART;TZID=America/New_York:20240612T180000
DTEND;TZID=America/New_York:20240612T200000
DTSTAMP:20260420T084645
CREATED:20240611T064234Z
LAST-MODIFIED:20241031T040619Z
UID:8248-1718215200-1718222400@apc-nyc.org
SUMMARY:🎳 Roll & Bowl Networking Event 🎳
DESCRIPTION:APC-NYC Roll & Bowl Networking Event 🎳Date: Wednesday\, June 12th\, 2024Time: 6 PM – 8 PM(Arrive by 5:45 PM to get your shoes and lace up; then join us after 8 PM for some drinks at the bar)Location: Bowlero Times Square\, 222 W 44th St\, New York\, NY 10036 \nJoin us for an evening of strikes\, spares\, and networking at our Roll and Bowl Networking Event! This special event combines the excitement of bowling with the opportunity to connect with industry professionals while supporting a great cause. \nWhy Attend?Network: Meet and mingle with fellow professionalsBowl: Enjoy a fun game of bowling\, whether you’re a pro or a beginnerGive Back: Help raise funds for our scholarship program\, empowering the next generation of leaders \nRSVP TODAY: follow this RSVP LINK to this event and make sure you’re counted! \nFirst come\, first serve so come and sign up before we sell out. If you can’t make it\, please consider donating today and/or become a member!Become a Member: follow this Membership Form to become a member today! \n			\n				CLICK TO RSVP
URL:https://apc-nyc.org/event/%f0%9f%8e%b3-roll-bowl-networking-event-%f0%9f%8e%b3/
LOCATION:Bowlero Times Square\, 222 W 44th St\, New York\, NY\, 10036\, United States
ATTACH;FMTTYPE=image/jpeg:https://apc-nyc.org/wp-content/uploads/2024/07/APC_Roll-Bowl_Event_Social-Media_Landscape.jpg
END:VEVENT
BEGIN:VEVENT
DTSTART;TZID=America/New_York:20240624T160000
DTEND;TZID=America/New_York:20240624T200000
DTSTAMP:20260420T084645
CREATED:20240620T220037Z
LAST-MODIFIED:20241031T040637Z
UID:7768-1719244800-1719259200@apc-nyc.org
SUMMARY:GCSF’s 2024 Scholarship Award Ceremony
DESCRIPTION:With a new venue\, strong industry support\, and a high expected turnout\, the Graphic Communications Scholarship Foundation (GCSF) is predicting that its 2024 scholarship awards ceremony will be the most festive edition of the event in many years. \nIt will take place on June 24 at the Renaissance New York Midtown Hotel\, where one of the highlights will be the presentation of GCSF’s “Champion of Education” award to Francis McMahon\, Executive Vice President\, Canon Solutions America. The centerpiece will be the tribute paid to students chosen to receive scholarship grants from GCSF\, which has fostered the development of the print and graphic communications industry’s workforce since 2002. \n“This year\, we are pulling out the stops to host an awards ceremony that will also be a celebration of our industry and its importance as a career path for talented young people\,” said John Aaron\, President of GCSF. “We look forward to an evening of networking and socializing in honor of our students and the promise they represent for the future of the industry.” \nPlease join us for this special evening of celebration. To learn more\, visit our website\, gcsfny.org. Please let us know if you are planning to attend!
URL:https://apc-nyc.org/event/gcsfs-2024-scholarship-award-ceremony/
LOCATION:Renaissance New York Midtown Hotel\, 218 W 35th St\, New York\, NY\, 10001\, United States
END:VEVENT
BEGIN:VEVENT
DTSTART;TZID=America/New_York:20240919T180000
DTEND;TZID=America/New_York:20240919T210000
DTSTAMP:20260420T084645
CREATED:20240823T171716Z
LAST-MODIFIED:20241031T042346Z
UID:9871-1726768800-1726779600@apc-nyc.org
SUMMARY:APC's Pop Couture Fashion & Paper Show
DESCRIPTION:APC’s Pop Couture: Where Fashion Meets AdvertisingDate: Thursday\, September 19th\, 2024Time: Doors Open at 6 PMLocation: Holy Apostles Church\, 296 9th Ave\, New York\, NY 10001 \nJoin us for the APC‘s first-ever fashion show-Pop Couture: Where Fashion Meets Advertising! Our fundraising fashion show celebrates the dynamic intersections of Fashion\, Design\, and Advertising. This unforgettable evening will feature stunning runway presentations from both emerging and established designers\, showcasing the latest trends and innovations in the industry. \nBefore the runway begins\, enjoy our exclusive paper show\, featuring Neenah\, Sappi\, and Mohawk. They will be displaying their educational paper samples and swatch books. Don’t miss this unique opportunity to explore the creative synergy of fashion and paper\, all in one unforgettable evening. \nWe can’t thank our amazing event sponsors enough for helping make this evening possible:Neenah\, Sappi\, Mohawk\, Underground Visuals\, DCC\, and Classic Color \nEvent Highlights:Fashion Show: Discover cutting-edge designs and creative concepts brought to life on the runwayPaper Show: Explore our sponsors’ educational paper samples and swatch books in a one-of-a-kind exhibitNetworking: Meet and mingle with industry professionals\, creative enthusiasts\, and fellow supportersReception: Enjoy a selection of gourmet hors d’oeuvres and drinks in a stylish\, relaxed atmosphere \nTicket Prices:Online Admission: $30At-the-Door Admission: $40APC-NYC Members Pricing: FreeAnnual Membership: $120 (Includes complimentary admission to Pop Couture and other exclusive events throughout the year) – follow this Membership Form to become a member today! \nFirst come\, first serve so come and sign up before we sell out. If you can’t make it\, please consider donating today. \nRSVP TODAY: follow this RSVP LINK to this event and make sure you’re counted! \nDon’t miss out on this exciting evening! \nFor any questions\, please contact us. \n			\n				RSVP NOW
URL:https://apc-nyc.org/event/pop-couture-where-fashion-meets-advertising/
LOCATION:Holy Apostles Church\, 296 9th Ave\, New York\, NY\, 10001\, United States
ATTACH;FMTTYPE=image/jpeg:https://apc-nyc.org/wp-content/uploads/2024/08/APC-Pop-Couture-Fashion-Event-Final-scaled.jpg
END:VEVENT
BEGIN:VEVENT
DTSTART;TZID=America/New_York:20241121T173000
DTEND;TZID=America/New_York:20241121T210000
DTSTAMP:20260420T084645
CREATED:20241031T033229Z
LAST-MODIFIED:20250204T224712Z
UID:11011-1732210200-1732222800@apc-nyc.org
SUMMARY:Meet & Greet\, Holiday Edition
DESCRIPTION:APC’s Meet & Greet\, Holiday EditionDate: Thursday\, November 21st\, 2024Time: 5:30 – 9:00 PMLocation: Legends\, 6 W 33rd St\, New York\, NY 10001 \nJoin us for the Meet & Greet\, Holiday Edition—a chance to connect with fellow industry pros from companies like Paramount+\, TBWA\, OTTO\, NY Times\, Macmillan\, and more! Come network\, learn about the APC’s mission to support student scholarships\, and get an exclusive preview of our upcoming initiatives. You won’t want to miss this opportunity to build meaningful connections and enjoy a night of holiday cheer! \nSign up now to reserve your spot—fall into new opportunities this season! \nRSVP TODAY: follow this RSVP LINK to this event and make sure you’re counted! \nDon’t miss out on this exciting evening! \nFor any questions\, please contact us. \n \n			\n				RSVP NOW
URL:https://apc-nyc.org/event/meet-greet-holiday-edition/
LOCATION:Private: Legends\, 6 W 33rd St\, New York\, NY\, 10001\, United States
ATTACH;FMTTYPE=image/png:https://apc-nyc.org/wp-content/uploads/2024/10/Apc-fall-2024-meet-and-greet-v2.png
END:VEVENT
BEGIN:VEVENT
DTSTART;TZID=America/New_York:20250630T160000
DTEND;TZID=America/New_York:20250630T200000
DTSTAMP:20260420T084645
CREATED:20250623T234431Z
LAST-MODIFIED:20250623T234431Z
UID:15035-1751299200-1751313600@apc-nyc.org
SUMMARY:GCSF’s 2025 Scholarship Award Ceremony
DESCRIPTION:
URL:https://apc-nyc.org/event/gcsfs-2025-scholarship-award-ceremony/
LOCATION:Renaissance New York Midtown Hotel\, 218 W 35th St\, New York\, NY\, 10001\, United States
END:VEVENT
BEGIN:VEVENT
DTSTART;TZID=America/New_York:20250918T180000
DTEND;TZID=America/New_York:20250918T210000
DTSTAMP:20260420T084645
CREATED:20250204T230242Z
LAST-MODIFIED:20250808T070620Z
UID:12541-1758218400-1758229200@apc-nyc.org
SUMMARY:TEXTURE: APC Fashion 2025
DESCRIPTION:TEXTURE: APC Fashion 2025Date: Thursday\, September 18th\, 2025Time: Doors Open at 6 PMLocation: Cineplay Events\, 265 West 37th St.\, 16th Fl\, New York\, NY 10018Hors d’oeuvres and drinks will be served. \nThe APC-NYC Presents TEXTURE: APC Fashion 2025. Where fashion meets the future of production. \nJoin us for a vibrant night at the crossroads of fashion\, sustainability\, print production\, and creative innovation. From the materials we choose to the stories we tell\, TEXTURE explores how craft and conscious creation are shaping what’s next in our industry and beyond.Expect bold runway looks\, inspiring packaging\, interactive AI experiences and engaging conversation around the future of creativity. Whether you’re in print\, advertising\, media\, fashion\, or just obsessed with great design\, this is your chance to meet like-minded pros\, share ideas\, and support emerging creative talent while you’re at it. \nEvent Highlights:Runway Show – See what happens when fashion and sustainability collidePackaging Showcase – Grab exclusive samples and get inspired by material innovationPrompt the Future AI Studio – Create AI-generated prints of your own future-inspired artworkNetworking – Meet creatives\, producers\, makers\, and doers from across the industryScholarship Support – Your ticket helps fund the next generation of creative talent \nTicket Prices:Online Admission: $30At-the-Door Admission: $40Student Discount Pricing: $20APC-NYC Members Pricing: FreeInterested in becoming a member? Membership includes complimentary admission to TEXTURE: APC Fashion 2025 and access to other exclusive events throughout the year. Simply fill out our Membership Form to join today! \nFirst come\, first serve so come and sign up before we sell out. If you can’t make it\, please consider donating today. \nRSVP TODAY: follow this RSVP LINK to this event and make sure you’re counted! \nDon’t miss out on this exciting evening! \nFor any questions\, please contact us. \n			\n				RSVP NOW
URL:https://apc-nyc.org/event/texture-apc-fashion-2025/
LOCATION:Cineplay Events\, 265 West 37th St.\, 16th Fl\, New York\, NY\, 10018\, United States
ATTACH;FMTTYPE=image/jpeg:https://apc-nyc.org/wp-content/uploads/2025/08/APC-Texture-Fashion-2025-scaled.jpg
END:VEVENT
END:VCALENDAR